BEGIN:VCALENDAR
VERSION:2.0
PRODID:spatie/icalendar-generator
DESCRIPTION:Veranstaltungen von SC Rochade Zeulenroda
X-WR-CALDESC:Veranstaltungen von SC Rochade Zeulenroda
REFRESH-INTERVAL;VALUE=DURATION:PT1440M
X-PUBLISHED-TTL:PT1440M
BEGIN:VTIMEZONE
TZID:Europe/Berlin
BEGIN:DAYLIGHT
DTSTART:20210328T020000Z
TZOFFSETFROM:+0100
TZOFFSETTO:+0200
END:DAYLIGHT
BEGIN:STANDARD
DTSTART:20211031T030000Z
TZOFFSETFROM:+0200
TZOFFSETTO:+0100
END:STANDARD
BEGIN:DAYLIGHT
DTSTART:20220327T020000Z
TZOFFSETFROM:+0100
TZOFFSETTO:+0200
END:DAYLIGHT
END:VTIMEZONE
BEGIN:VTIMEZONE
TZID:UTC
BEGIN:STANDARD
DTSTART:20250726T220022Z
TZOFFSETFROM:+0000
TZOFFSETTO:+0000
END:STANDARD
END:VTIMEZONE
BEGIN:VEVENT
UID:1587-288
DTSTAMP:20260422T220022Z
SUMMARY:4. Spieltag Landesklasse und Bezirgsklasse Ost
LOCATION:
ORGANIZER;CN=Marcus:MAILTO:marcuspruetting@hotmail.de
DTSTART;TZID=Europe/Berlin:20211205T090000
DTEND;TZID=Europe/Berlin:20211205T100000
X-ALT-DESC;FMTTYPE=TEXT/HTML:
CATEGORIES:Männermannschaften
URL;VALUE=URI:https://sc-rochade.de/mc-events/4-spieltag-landesklasse-und-b
 ezirgsklasse-ost/
METHOD:PUBLISH
END:VEVENT
END:VCALENDAR